BEGIN:VCALENDAR
VERSION:2.0
PRODID:-//Children &amp; Family Resource Center - ECPv6.15.20//NONSGML v1.0//EN
CALSCALE:GREGORIAN
METHOD:PUBLISH
X-WR-CALNAME:Children &amp; Family Resource Center
X-ORIGINAL-URL:https://childrenandfamily.org
X-WR-CALDESC:Events for Children &amp; Family Resource Center
REFRESH-INTERVAL;VALUE=DURATION:PT1H
X-Robots-Tag:noindex
X-PUBLISHED-TTL:PT1H
BEGIN:VTIMEZONE
TZID:UTC
BEGIN:STANDARD
TZOFFSETFROM:+0000
TZOFFSETTO:+0000
TZNAME:UTC
DTSTART:20220101T000000
END:STANDARD
END:VTIMEZONE
BEGIN:VEVENT
DTSTART;TZID=UTC:20240129T180000
DTEND;TZID=UTC:20240129T193000
DTSTAMP:20260424T135804
CREATED:20231228T171256Z
LAST-MODIFIED:20240123T155739Z
UID:10003228-1706551200-1706556600@childrenandfamily.org
SUMMARY:Blue Ridge Community College Directors Meeting-Apprenticeship Program
DESCRIPTION:This event is an informational meeting designed for licensed child care facility directors not already participating in an apprenticship program with Blue Ridge Community College. If you have questions please reach out to Heather Erwin at 698-0674 ext 154. \nA meal will be provided. \nAt Apprenticeship Blue Ridge\, we collaborate with employers\, community partners\, and educational providers to identify and close gaps in knowledge\, competencies\, and skills to strengthen our community’s workforce. \nCurrently\, Apprenticeship Blue Ridge provides thirteen apprenticeship pathways\, serving over 250 apprentices to date. 109 apprentices are engaged in on-campus related instruction\, while seventeen apprentices have completed their related instruction and are now fulfilling the required on-the-job training. Our programs have a retention rate of around 90%. \nOur programs thrive due to their streamlined structure. Apprentices attend class one day a week\, enabling them to spend most of their time working with their employers. They represent their employer in class\, get paid for time in class\, and seamlessly integrate their education with real-time on-the-job training. \nBlue Ridge Community College has tapped into its existing strengths and experience with our Early Childhood Education program and created an apprenticeship program that combines these successes. The Early Childhood Education apprentices gain the necessary education and workexperience to become professionals in their field and have the support of not only their employer but also the college in their pursuit of becoming educated working professionals. Upon completion of the program\, apprentices have the option to continue their education with Blue Ridge Community College and can gain their certificate in Early Childhood or their A.A.S degree. \nApprenticeship is a benefit to employers in building not only a talented workforce but a loyal one as well due to the educational investment the employers provide by paying wages for time at work as well as time in class. Apprentices clock in and out on campus just as they would at work and those timestamps are sent to the employers weekly for wage and hour purposes. Communication between the instructor\, coordinator\, and employer is consistent as we know that  apprenticeship cannot be successful without it. \nIn order to be an employer partner with a registered apprenticeship the employer must: \n\nEmploy apprentices full-time.\nPair apprentices with experienced mentors.\nTrain apprentices in all aspects of the occupation.\nOffer a progressive wage scale that consists of at least one pay raise during the course of the apprenticeship program.\nHave a desire to develop a skilled workforce.\n\n  \n 
URL:https://childrenandfamily.org/event/blue-ridge-community-college-directors-meeting-apprenticeship-program/
LOCATION:Children & Family Resource Center\, 851 Case Street\, Hendersonville\, NC\, 28792\, United States
CATEGORIES:CCRR Training,Event Calendar
ORGANIZER;CN="Heather":MAILTO:heathere@childrenandfamily.org
END:VEVENT
BEGIN:VEVENT
DTSTART;TZID=UTC:20230613T180000
DTEND;TZID=UTC:20230613T190000
DTSTAMP:20260424T135804
CREATED:20230302T152633Z
LAST-MODIFIED:20230523T131703Z
UID:10001879-1686679200-1686682800@childrenandfamily.org
SUMMARY:Prevention & Control of Infectious Diseases\, Including Immunizations (Cancelled)
DESCRIPTION:Participants will learn about infectious disease and how it is spread. They will be taught how to prevent and control the spread of infectious diseases. They will also learn the importance of immunizations\, proper hygiene and sanitation routines\, how to recognize ill children\, and when to exclude children from care. \n  \nPresenter: Jennifer Bruni\, Child Care Health Consultant \n  \nCredit: 1 hour \n  \nQuestions contact: Heather Erwin 828-698-0674 x 154 \nheathere@childrenandfamily.org \n  \n*Please arrive at least 15 minutes prior to the training event so there is ample time to complete the registration process and the training can begin promptly. Also\, note that if you register for the training event and are unable to attend\, you MUST contact CCR&R prior to the scheduled training event to cancel or you will be liable for the registration costs.
URL:https://childrenandfamily.org/event/prevention-control-of-infectious-diseases-including-immunizations/
LOCATION:Children & Family Resource Center\, 851 Case Street\, Hendersonville\, NC\, 28792\, United States
CATEGORIES:CCRR Training,Event Calendar
ORGANIZER;CN="Heather":MAILTO:heathere@childrenandfamily.org
END:VEVENT
BEGIN:VEVENT
DTSTART;TZID=UTC:20230606T180000
DTEND;TZID=UTC:20230606T190000
DTSTAMP:20260424T135804
CREATED:20230302T152305Z
LAST-MODIFIED:20230523T132032Z
UID:10001878-1686074400-1686078000@childrenandfamily.org
SUMMARY:Precautions in Transporting Children
DESCRIPTION:Participants will learn about the safe transportation of children for routine and special occasion travel. They will learn how to keep children and other passengers safe while in a car\, bus\, or while walking. Participants will also learn about saving driving practices and vehicle safety. \n  \nPresenter: Jennifer Bruni\, Child Care Health Consultant \n  \nCredit: 1 hour \n  \nQuestions contact: Heather Erwin 828-698-0674 x 154 \nheathere@childrenandfamily.org \n  \n*Please arrive at least 15 minutes prior to the training event so there is ample time to complete the registration process and the training can begin promptly. Also\, note that if you register for the training event and are unable to attend\, you MUST contact CCR&R prior to the scheduled training event to cancel or you will be liable for the registration costs.
URL:https://childrenandfamily.org/event/precautions-in-transporting-children/
LOCATION:Children & Family Resource Center\, 851 Case Street\, Hendersonville\, NC\, 28792\, United States
CATEGORIES:CCRR Training,Event Calendar
ORGANIZER;CN="Heather":MAILTO:heathere@childrenandfamily.org
END:VEVENT
BEGIN:VEVENT
DTSTART;TZID=UTC:20230523T180000
DTEND;TZID=UTC:20230523T200000
DTSTAMP:20260424T135804
CREATED:20230302T151922Z
LAST-MODIFIED:20230412T201209Z
UID:10001877-1684864800-1684872000@childrenandfamily.org
SUMMARY:Breastfeeding Friendly Child Care
DESCRIPTION:This training will offer child care directors and staff an opportunity to learn about the importance of breastfeeding and how to create an environment that supports breastfeeding. Human milk is the perfect food for infants to nourish them\, protect them from illness\, and is sufficient to support optimal growth and development. This training will encourage directors and staff to make a commitment to the importance of breastfeeding. Staff will receive training on the importance of breastfeeding\, how to provide a breastfeeding friendly environment\, and how to develop a sustainable feeding plan with each family. Training will be provided on the proper handling and feeding of mother’s milk\, as well as how to ensure that families are able to properly store and label milk for child care center use. Centers will receive written materials for the center use\, as well as resources to be shared with families. \n  \nPresenter: Jennifer Bruni\, Child Care Health Consultant \n  \nCredit: 2 hours \n  \nQuestions contact: Heather Erwin 828-698-0674 x 154 \nheathere@childrenandfamily.org \n  \n*Please arrive at least 15 minutes prior to the training event so there is ample time to complete the registration process and the training can begin promptly. Also\, note that if you register for the training event and are unable to attend\, you MUST contact CCR&R prior to the scheduled training event to cancel or you will be liable for the registration costs.
URL:https://childrenandfamily.org/event/breastfeeding-friendly-child-care-2/
LOCATION:Children & Family Resource Center\, 851 Case Street\, Hendersonville\, NC\, 28792\, United States
CATEGORIES:CCRR Training,Event Calendar
ORGANIZER;CN="Heather":MAILTO:heathere@childrenandfamily.org
END:VEVENT
BEGIN:VEVENT
DTSTART;TZID=UTC:20230522T180000
DTEND;TZID=UTC:20230522T200000
DTSTAMP:20260424T135804
CREATED:20230517T132902Z
LAST-MODIFIED:20230522T150700Z
UID:10002046-1684778400-1684785600@childrenandfamily.org
SUMMARY:Supervision
DESCRIPTION:Learn how to identify and become familiar with best practices in childcare in regards to supervision. As a participant you will also learn how to use available resources found on North Carolina DCDEE website. \n  \nPresenter: Roxanna Pepper \n  \nCredit: 2 hours \n  \nQuestions contact: Heather Erwin 828-698-0674 x 154 \nheathere@childrenandfamily.org \n  \n*Please arrive at least 15 minutes prior to the training event so there is ample time to complete the registration process and the training can begin promptly. Also\, note that if you register for the training event and are unable to attend\, you MUST contact CCR&R prior to the scheduled training event to cancel or you will be liable for the registration costs.
URL:https://childrenandfamily.org/event/supervision-3/
LOCATION:Children & Family Resource Center\, 851 Case Street\, Hendersonville\, NC\, 28792\, United States
CATEGORIES:CCRR Training,Event Calendar
ORGANIZER;CN="Heather":MAILTO:heathere@childrenandfamily.org
END:VEVENT
BEGIN:VEVENT
DTSTART;TZID=UTC:20230518T180000
DTEND;TZID=UTC:20230518T200000
DTSTAMP:20260424T135804
CREATED:20230302T151607Z
LAST-MODIFIED:20230413T165906Z
UID:10001876-1684432800-1684440000@childrenandfamily.org
SUMMARY:Understanding\, Limiting\, and Responding to Aggressive Behavior in the Classroom
DESCRIPTION:This workshop will use knowledge of why children engage in aggressive behavior to inform preventative strategies to minimize the likelihood of aggressive acts.  Together we will workshop to create responsive strategies for intervening with aggressive behaviors that effectively leads to less of these instances and a more peaceful classroom. \n  \nPresenters: Becki Woolf\, LCMHC and Parent Support Group Coordinator; Laura D’Angelo\, LCMHC and Parent Educator and Therapist \n  \nCredit: 2 hours \n  \nQuestions contact: Heather Erwin 828-698-0674 x 154 \nheathere@childrenandfamily.org \n  \n*Please arrive at least 15 minutes prior to the training event so there is ample time to complete the registration process and the training can begin promptly. Also\, note that if you register for the training event and are unable to attend\, you MUST contact CCR&R prior to the scheduled training event to cancel or you will be liable for the registration costs.
URL:https://childrenandfamily.org/event/understanding-limiting-and-responding-to-aggressive-behavior-in-the-classroom/
LOCATION:Children & Family Resource Center\, 851 Case Street\, Hendersonville\, NC\, 28792\, United States
CATEGORIES:CCRR Training,Event Calendar
ORGANIZER;CN="Heather":MAILTO:heathere@childrenandfamily.org
END:VEVENT
BEGIN:VEVENT
DTSTART;TZID=UTC:20230515T180000
DTEND;TZID=UTC:20230515T200000
DTSTAMP:20260424T135804
CREATED:20230302T133221Z
LAST-MODIFIED:20230502T163746Z
UID:10001875-1684173600-1684180800@childrenandfamily.org
SUMMARY:ITS SIDS
DESCRIPTION:Anyone caring for infants (12 months old or younger) in a center or a home must place babies on their backs to sleep and must participate in this required training that focuses on safe sleep practices. Included will be an overview of what we know about SIDS; the procedures that need to be consistently practiced to reduce the likelihood of it occurring in child care programs; and the related Child Care Licensing requirements. \n  \nPresenter: Jennifer Bruni\, Child Care Health Consultant \nCredit: 2 hours \n  \nQuestions contact: Heather Erwin 828-698-0674 x 154 \nheathere@childrenandfamily.org \n  \n*Please arrive at least 15 minutes prior to the training event so there is ample time to complete the registration process and the training can begin promptly. Also\, note that if you register for the training event and are unable to attend\, you MUST contact CCR&R prior to the scheduled training event to cancel or you will be liable for the registration costs.
URL:https://childrenandfamily.org/event/its-sids-3/
LOCATION:Children & Family Resource Center\, 851 Case Street\, Hendersonville\, NC\, 28792\, United States
CATEGORIES:CCRR Training,Event Calendar
ORGANIZER;CN="Heather":MAILTO:heathere@childrenandfamily.org
END:VEVENT
BEGIN:VEVENT
DTSTART;TZID=UTC:20230513T090000
DTEND;TZID=UTC:20230513T143000
DTSTAMP:20260424T135804
CREATED:20230322T124426Z
LAST-MODIFIED:20230412T200948Z
UID:10001883-1683968400-1683988200@childrenandfamily.org
SUMMARY:Heartsaver Pediatric First Aid & CPR
DESCRIPTION:Infant\, Child\, Adult CPR and AED use will be covered in this 5.5 hour training. This training will also cover First Aid. Participants will receive a card from the American Heart Association upon successful completion of the course. \n  \nCost: $65.00 \n  \nQuestions contact: Heather Erwin 828-698-0674 x 154 \nheathere@childrenandfamily.org \n  \n*Please arrive at least 15 minutes prior to the training event so there is ample time to complete the registration process and the training can begin promptly. Also\, note that if you register for the training event and are unable to attend\, you MUST contact CCR&R prior to the scheduled training event to cancel or you will be liable for the registration costs.
URL:https://childrenandfamily.org/event/heartsaver-pediatric-first-aid-cpr/
LOCATION:Children & Family Resource Center\, 851 Case Street\, Hendersonville\, NC\, 28792\, United States
CATEGORIES:CCRR Training,Event Calendar
ORGANIZER;CN="Heather":MAILTO:heathere@childrenandfamily.org
END:VEVENT
BEGIN:VEVENT
DTSTART;TZID=UTC:20230511T180000
DTEND;TZID=UTC:20230511T200000
DTSTAMP:20260424T135804
CREATED:20230130T190611Z
LAST-MODIFIED:20230412T200835Z
UID:10001294-1683828000-1683835200@childrenandfamily.org
SUMMARY:Let's Get Dirty with Natural Play!
DESCRIPTION:Let’s get dirty!! Believe it or not\, young’uns need the outdoors for more things than just running off excess energy. We will explore all sorts of reasons and talk about the benefits nature has to offer children ages infants to preschool. There will be some hands-on activities! How does it all fit into NAEYC standards\, DCDEE licensing\, NC Foundations\, ITERS\, & ECERS? Well\, come on and we’ll have fun learning about it all together! \n  \nPresenters: Vanessa Gilliam and Dixie Gilliam\, Directors of Nessa’s Young’uns I & II \n  \nCredit: 2 hours \n  \nQuestions contact: Heather Erwin 828-698-0674 x 154 \nheathere@childrenandfamily.org \n  \n*Please arrive at least 15 minutes prior to the training event so there is ample time to complete the registration process and the training can begin promptly. Also\, note that if you register for the training event and are unable to attend\, you MUST contact CCR&R prior to the scheduled training event to cancel or you will be liable for the registration costs.
URL:https://childrenandfamily.org/event/lets-get-dirty-with-natural-play/
LOCATION:Children & Family Resource Center\, 851 Case Street\, Hendersonville\, NC\, 28792\, United States
CATEGORIES:CCRR Training,Event Calendar
ORGANIZER;CN="Heather":MAILTO:heathere@childrenandfamily.org
END:VEVENT
BEGIN:VEVENT
DTSTART;TZID=UTC:20230509T180000
DTEND;TZID=UTC:20230509T190000
DTSTAMP:20260424T135804
CREATED:20230302T132829Z
LAST-MODIFIED:20230412T200740Z
UID:10001874-1683655200-1683658800@childrenandfamily.org
SUMMARY:Prevention of and Response to Emergencies due to Food and Allergic Reactions
DESCRIPTION:Participants will learn to recognize signs and symptoms of severe allergic reactions\, including anaphylaxis. They will become familiar with proper storage and documentation for epinephrine auto-injectors. They will learn proper response to allergic reactions and emergency follow-up procedures. This training does not prepare participants to give medication to children. Additional in-depth\, in-person\, skills-based training should be undertaken by early educators who will be responsible for giving medication to children. \n  \nPresenter: Jennifer Bruni\, Child Care Health Consultant \n  \nCredit: 1 hour \n  \nQuestions contact: Heather Erwin 828-698-0674 x 154 \nheathere@childrenandfamily.org \n  \n*Please arrive at least 15 minutes prior to the training event so there is ample time to complete the registration process and the training can begin promptly. Also\, note that if you register for the training event and are unable to attend\, you MUST contact CCR&R prior to the scheduled training event to cancel or you will be liable for the registration costs.
URL:https://childrenandfamily.org/event/prevention-of-and-response-to-emergencies-due-to-food-and-allergic-reactions/
LOCATION:Children & Family Resource Center\, 851 Case Street\, Hendersonville\, NC\, 28792\, United States
CATEGORIES:CCRR Training,Event Calendar
ORGANIZER;CN="Heather":MAILTO:heathere@childrenandfamily.org
END:VEVENT
BEGIN:VEVENT
DTSTART;TZID=UTC:20230429T090000
DTEND;TZID=UTC:20230429T143000
DTSTAMP:20260424T135804
CREATED:20230228T143743Z
LAST-MODIFIED:20230412T205047Z
UID:10001873-1682758800-1682778600@childrenandfamily.org
SUMMARY:SACERS-U: Are U Ready?
DESCRIPTION:Register & pay at http://www.swcdcinc.org
URL:https://childrenandfamily.org/event/sacers-u-are-u-ready/
LOCATION:Children & Family Resource Center\, 851 Case Street\, Hendersonville\, NC\, 28792\, United States
CATEGORIES:CCRR Training,Event Calendar
ATTACH;FMTTYPE=image/png:https://childrenandfamily.org/wp-content/uploads/2023/02/4.29-SACERS-U-ARE-U-READY.png
ORGANIZER;CN="Heather":MAILTO:heathere@childrenandfamily.org
END:VEVENT
BEGIN:VEVENT
DTSTART;TZID=UTC:20230418T180000
DTEND;TZID=UTC:20230418T203000
DTSTAMP:20260424T135804
CREATED:20230126T143358Z
LAST-MODIFIED:20230412T200634Z
UID:10001286-1681840800-1681849800@childrenandfamily.org
SUMMARY:Seizures in Child Care and Emergency Treatment
DESCRIPTION:Training developed by the North Carolina Child Care Health and Safety Resource Center covering Seizures in Child Care and Emergency Treatment. Participants will understand and recognize seizures\, learn strategies for including a child with seizures in early care and education\, and identify community resources and support. Participants will learn different types of seizures and common triggers\, how to understand a seizure action plan\, care team members who support children with seizures\, steps of seizure first aid\, and how to administer emergency medications including diazepam rectal gel. \n  \nPresenter: Jennifer Bruni\, Child Care Health Consultant \n  \nCredit: 2.5 hours \n  \nQuestions contact: Heather Erwin 828-698-0674 x 154 \nheathere@childrenandfamily.org \n  \n*Please arrive at least 15 minutes prior to the training event so there is ample time to complete the registration process and the training can begin promptly. Also\, note that if you register for the training event and are unable to attend\, you MUST contact CCR&R prior to the scheduled training event to cancel or you will be liable for the registration costs.
URL:https://childrenandfamily.org/event/seizures-in-child-care-and-emergency-treatment/
LOCATION:Children & Family Resource Center\, 851 Case Street\, Hendersonville\, NC\, 28792\, United States
CATEGORIES:CCRR Training,Event Calendar
ORGANIZER;CN="Heather":MAILTO:heathere@childrenandfamily.org
END:VEVENT
BEGIN:VEVENT
DTSTART;TZID=UTC:20230417T180000
DTEND;TZID=UTC:20230417T200000
DTSTAMP:20260424T135804
CREATED:20230322T152403Z
LAST-MODIFIED:20230412T195357Z
UID:10001885-1681754400-1681761600@childrenandfamily.org
SUMMARY:Family Child Care Home Spring Provider Meeting
DESCRIPTION:Presenter: DCDEE Licensing Consultants \n  \nCredit: 2 hours \n  \nQuestions contact: Heather Erwin 828-698-0674 x 154 \nheathere@childrenandfamily.org \n*A ZOOM link will be sent out closer to the event.
URL:https://childrenandfamily.org/event/family-child-care-home-spring-provider-meeting/
LOCATION:Virtual- You will recieve a link closer to the event\, NC\, United States
CATEGORIES:CCRR Training,Event Calendar
ATTACH;FMTTYPE=application/pdf:https://childrenandfamily.org/wp-content/uploads/2023/03/FCCH-invitation-Spring-2023.pdf
ORGANIZER;CN="Heather":MAILTO:heathere@childrenandfamily.org
END:VEVENT
BEGIN:VEVENT
DTSTART;TZID=UTC:20230417T180000
DTEND;TZID=UTC:20230417T200000
DTSTAMP:20260424T135804
CREATED:20230126T142721Z
LAST-MODIFIED:20230412T200452Z
UID:10001285-1681754400-1681761600@childrenandfamily.org
SUMMARY:Supervision
DESCRIPTION:Learn how to identify and become familiar with best practices in childcare in regards to supervision. As a participant you will also learn how to use available resources found on North Carolina DCDEE website. \n  \nPresenter: Roxanna Pepper \n  \nCredit: 2 hours \n  \nQuestions contact: Heather Erwin 828-698-0674 x 154 \nheathere@childrenandfamily.org \n  \n*Please arrive at least 15 minutes prior to the training event so there is ample time to complete the registration process and the training can begin promptly. Also\, note that if you register for the training event and are unable to attend\, you MUST contact CCR&R prior to the scheduled training event to cancel or you will be liable for the registration costs.
URL:https://childrenandfamily.org/event/supervision/
LOCATION:Children & Family Resource Center\, 851 Case Street\, Hendersonville\, NC\, 28792\, United States
CATEGORIES:CCRR Training,Event Calendar
ORGANIZER;CN="Heather":MAILTO:heathere@childrenandfamily.org
END:VEVENT
BEGIN:VEVENT
DTSTART;TZID=UTC:20230417T123000
DTEND;TZID=UTC:20230417T143000
DTSTAMP:20260424T135804
CREATED:20230322T151751Z
LAST-MODIFIED:20230412T195321Z
UID:10001884-1681734600-1681741800@childrenandfamily.org
SUMMARY:Child Care Center Spring Provider Meeting
DESCRIPTION:Presenter: DCDEE Licensing Consultants \n  \nCredit: 2 hours \n  \nQuestions contact: Heather Erwin 828-698-0674 x 154 \nheathere@childrenandfamily.org \n*Please arrive at least 15 minutes prior to the training event so there is ample time to complete the registration process and the training can begin promptly. Also\, note that if you register for the training event and are unable to attend\, you MUST contact CCR&R prior to the scheduled training event to cancel or you will be liable for the registration costs.
URL:https://childrenandfamily.org/event/child-care-center-spring-provider-meeting/
LOCATION:Blue Ridge Community College\, 180 W. Campus Drive\, Flat Rock\, NC\, 28731\, United States
CATEGORIES:CCRR Training,Event Calendar
ATTACH;FMTTYPE=application/pdf:https://childrenandfamily.org/wp-content/uploads/2023/03/CCC-Provider-Spring-invite-2023.pdf
ORGANIZER;CN="Heather":MAILTO:heathere@childrenandfamily.org
END:VEVENT
BEGIN:VEVENT
DTSTART;TZID=UTC:20230415T110000
DTEND;TZID=UTC:20230415T133000
DTSTAMP:20260424T135804
CREATED:20230207T185738Z
LAST-MODIFIED:20240904T180148Z
UID:10001830-1681556400-1681565400@childrenandfamily.org
SUMMARY:Week of the Young Child Celebration 2023
DESCRIPTION:This event is for early childhood educators\, directors and owners in childcare.  \n  \nThis year we will celebrate Week of the Young Child® on Saturday April 15\, 2023 at Blue Ridge Community College. Dr. Kimberly Johnson will speak on the topic\, Educators as Everyday C.O.A.C.H.E.S from 11:00-12:30 and then lunch will be served along with the chance to win some awesome giveaways. Registration and lunch are FREE. \nThis interactive session will focus on activities that will increase autonomy and leadership within the setting. Through the strategies presented\, educators will learn how to increase creativity\, communication\, and motivation. Participants will engage in activities that are designed for immediate use. The session will encourage educators to become stronger listeners and learn to re-examine their own attitudes toward challenging situations. Tools for building student/family confidence will be addressed. Participants will also examine how they can use their experiences to further enhance the development of positive interactions\, self-efficacy\, and cohesion. Dr. Kimberly P. Johnson will have participants up\, engaging and learning in this high-energy session. We all have the ability to be Everyday COACHES!! \nPresenter: Dr. Kimberly Johnson\, Children’s author and educator\, Dr. Johnson grew up in Shelby\, NC.  She is the author of 22 children’s books. Kimberly received her Doctorate in Curriculum\, Teaching\, and Leadership from Northeastern University in Boston\, MA and also holds a Master’s Degree from Clemson University\, in Youth Development and Leadership. Kimberly has an Early Childhood Education Degree and a Communications Degree from UNC – Chapel Hill. \n  \n  \n  \nCredit: 1.5 hours \nQuestions contact: Heather Erwin\, 698-0674 ext 154 \nheathere@childrenandfamily.org \n  \nREGISTRATION IS NOW CLOSED
URL:https://childrenandfamily.org/event/week-of-the-young-child-celebration-2023/
LOCATION:Blue Ridge Community College Technology Education & Development Center\, 180 W Campus Drive\, Flat Rock\, NC\, 28731\, United States
CATEGORIES:CCRR Training,Event Calendar
ATTACH;FMTTYPE=image/jpeg:https://childrenandfamily.org/wp-content/uploads/2023/02/WOYCBannerSavetheDate-0123-1.jpg
ORGANIZER;CN="Heather":MAILTO:heathere@childrenandfamily.org
END:VEVENT
BEGIN:VEVENT
DTSTART;TZID=UTC:20230307T180000
DTEND;TZID=UTC:20230307T190000
DTSTAMP:20260424T135804
CREATED:20230215T204110Z
LAST-MODIFIED:20240904T180122Z
UID:10001837-1678212000-1678215600@childrenandfamily.org
SUMMARY:Child Care Staffing Crisis 101-Kick off
DESCRIPTION:As a child care center owner/director\, you know that staffing is one of the most important aspects of your business. However\, identifying your staffing strengths and weaknesses and understanding your employee competitors can be a daunting task. That’s why we would like to invite you to our upcoming Virtual Kickoff Event with Business of Child Care & Care Connection.. \n  \nThis event is the beginning of an online experience that will help you discover your child care center’s staffing strengths and weaknesses\, your employee competitors\, and your style and culture. Our experienced speakers will guide you through starting a series of exercises that you’ll complete on your own. \n  \nThe experience will culminate in a virtual workshop on March 28\, 2023\, where you will have the opportunity to connect with other child care center business owners and share your experiences along with support on defining your steps to take action. \n  \nThe event will take place on March 7\, 2023 beginning at 6:00PM and is completely virtual\, so you can attend from the comfort of your own home or office. It is an excellent opportunity for you to gain new knowledge and skills that will help you take your child care center to the next level. \n  \nDon’t miss out on this exciting opportunity! Register now! If you have any questions or concerns\, please feel free to contact me. \n  \nWe look forward to seeing you at our Virtual Kickoff Event!
URL:https://childrenandfamily.org/event/child-care-staffing-crisis-101-kick-off/
LOCATION:Virtual- You will recieve a link closer to the event\, NC\, United States
CATEGORIES:CCRR Training,Event Calendar
ATTACH;FMTTYPE=image/jpeg:https://childrenandfamily.org/wp-content/uploads/2023/02/Pages-from-Staff-101-scaled.jpg
ORGANIZER;CN="Heather":MAILTO:heathere@childrenandfamily.org
END:VEVENT
END:VCALENDAR