BEGIN:VCALENDAR
VERSION:2.0
PRODID:-//Children &amp; Family Resource Center - ECPv6.15.20//NONSGML v1.0//EN
CALSCALE:GREGORIAN
METHOD:PUBLISH
X-ORIGINAL-URL:https://childrenandfamily.org
X-WR-CALDESC:Events for Children &amp; Family Resource Center
REFRESH-INTERVAL;VALUE=DURATION:PT1H
X-Robots-Tag:noindex
X-PUBLISHED-TTL:PT1H
BEGIN:VTIMEZONE
TZID:UTC
BEGIN:STANDARD
TZOFFSETFROM:+0000
TZOFFSETTO:+0000
TZNAME:UTC
DTSTART:20250101T000000
END:STANDARD
END:VTIMEZONE
BEGIN:VEVENT
DTSTART;TZID=UTC:20260416T090000
DTEND;TZID=UTC:20260416T103000
DTSTAMP:20260424T141655
CREATED:20260318T135059Z
LAST-MODIFIED:20260318T135059Z
UID:10004462-1776330000-1776335400@childrenandfamily.org
SUMMARY:Edneyville Library
DESCRIPTION:2 Firehouse Rd\, Hendersonville
URL:https://childrenandfamily.org/event/edneyville-library-54/
LOCATION:GLO Mobile
CATEGORIES:GLO Mobile
END:VEVENT
BEGIN:VEVENT
DTSTART;TZID=UTC:20260415T150000
DTEND;TZID=UTC:20260415T170000
DTSTAMP:20260424T141655
CREATED:20260318T135328Z
LAST-MODIFIED:20260318T141425Z
UID:10004464-1776265200-1776272400@childrenandfamily.org
SUMMARY:First United Methodist Hendersonville - IAM Healthy Heroes
DESCRIPTION:204 6th Ave W\, Hendersonville
URL:https://childrenandfamily.org/event/first-united-methodist-hendersonville-iam-healthy-heroes/
LOCATION:GLO Mobile
CATEGORIES:GLO Mobile
END:VEVENT
BEGIN:VEVENT
DTSTART;TZID=UTC:20260415T090000
DTEND;TZID=UTC:20260415T103000
DTSTAMP:20260424T141655
CREATED:20260318T135003Z
LAST-MODIFIED:20260318T135003Z
UID:10004461-1776243600-1776249000@childrenandfamily.org
SUMMARY:Dermid Meadows
DESCRIPTION:439 Dermid Ave\, Hendersonville
URL:https://childrenandfamily.org/event/dermid-meadows-73/
LOCATION:GLO Mobile
CATEGORIES:GLO Mobile
END:VEVENT
BEGIN:VEVENT
DTSTART;TZID=UTC:20260410T104500
DTEND;TZID=UTC:20260410T121500
DTSTAMP:20260424T141655
CREATED:20260318T134625Z
LAST-MODIFIED:20260318T134625Z
UID:10004459-1775817900-1775823300@childrenandfamily.org
SUMMARY:Maple Hills MHP
DESCRIPTION:~135 Maple Hill Cir\, Mills River
URL:https://childrenandfamily.org/event/maple-hills-mhp-17/
LOCATION:GLO Mobile
CATEGORIES:GLO Mobile
END:VEVENT
BEGIN:VEVENT
DTSTART;TZID=UTC:20260410T090000
DTEND;TZID=UTC:20260410T103000
DTSTAMP:20260424T141655
CREATED:20260318T134521Z
LAST-MODIFIED:20260318T134521Z
UID:10004458-1775811600-1775817000@childrenandfamily.org
SUMMARY:Mills River Park
DESCRIPTION:124 Town Center Dr\, Mills River
URL:https://childrenandfamily.org/event/mills-river-park-69/
LOCATION:GLO Mobile
CATEGORIES:GLO Mobile
END:VEVENT
BEGIN:VEVENT
DTSTART;TZID=UTC:20260409T103000
DTEND;TZID=UTC:20260409T120000
DTSTAMP:20260424T141655
CREATED:20260318T133752Z
LAST-MODIFIED:20260318T133752Z
UID:10004457-1775730600-1775736000@childrenandfamily.org
SUMMARY:Green River Library
DESCRIPTION:50 Green River Rd\, Zirconia
URL:https://childrenandfamily.org/event/green-river-library-72/
LOCATION:GLO Mobile
CATEGORIES:GLO Mobile
END:VEVENT
BEGIN:VEVENT
DTSTART;TZID=UTC:20260408T104500
DTEND;TZID=UTC:20260408T121500
DTSTAMP:20260424T141655
CREATED:20260318T133409Z
LAST-MODIFIED:20260318T133409Z
UID:10004456-1775645100-1775650500@childrenandfamily.org
SUMMARY:East Flat Rock Park
DESCRIPTION:107 E Blue Ridge Rd\, East Flat Rock
URL:https://childrenandfamily.org/event/east-flat-rock-park-28/
LOCATION:GLO Mobile
CATEGORIES:GLO Mobile
END:VEVENT
BEGIN:VEVENT
DTSTART;TZID=UTC:20260408T090000
DTEND;TZID=UTC:20260408T103000
DTSTAMP:20260424T141655
CREATED:20260318T133259Z
LAST-MODIFIED:20260318T133259Z
UID:10004455-1775638800-1775644200@childrenandfamily.org
SUMMARY:Dodd Meadows
DESCRIPTION:28 Hofer Ct\, East Flat Rock
URL:https://childrenandfamily.org/event/dodd-meadows-73/
LOCATION:GLO Mobile
CATEGORIES:GLO Mobile
END:VEVENT
BEGIN:VEVENT
DTSTART;TZID=UTC:20260407T104500
DTEND;TZID=UTC:20260407T121500
DTSTAMP:20260424T141656
CREATED:20260318T133101Z
LAST-MODIFIED:20260318T133101Z
UID:10004454-1775558700-1775564100@childrenandfamily.org
SUMMARY:Dana Park
DESCRIPTION:2879 Upward Rd\, Flat Rock
URL:https://childrenandfamily.org/event/dana-park-20/
LOCATION:GLO Mobile
CATEGORIES:GLO Mobile
END:VEVENT
BEGIN:VEVENT
DTSTART;TZID=UTC:20260407T090000
DTEND;TZID=UTC:20260407T103000
DTSTAMP:20260424T141656
CREATED:20260318T132803Z
LAST-MODIFIED:20260318T132803Z
UID:10004453-1775552400-1775557800@childrenandfamily.org
SUMMARY:Mountain View MHP
DESCRIPTION:~19 Duchess Ln\, Hendersonville
URL:https://childrenandfamily.org/event/mountain-view-mhp-43/
LOCATION:GLO Mobile
CATEGORIES:GLO Mobile
END:VEVENT
BEGIN:VEVENT
DTSTART;TZID=UTC:20260403T103000
DTEND;TZID=UTC:20260403T120000
DTSTAMP:20260424T141656
CREATED:20260318T130705Z
LAST-MODIFIED:20260318T130705Z
UID:10004452-1775212200-1775217600@childrenandfamily.org
SUMMARY:Cromer Dr
DESCRIPTION:~98 Cromer Dr\, Fletcher
URL:https://childrenandfamily.org/event/cromer-dr-54/
LOCATION:GLO Mobile
CATEGORIES:GLO Mobile
END:VEVENT
BEGIN:VEVENT
DTSTART;TZID=UTC:20260402T104500
DTEND;TZID=UTC:20260402T121500
DTSTAMP:20260424T141656
CREATED:20260318T130611Z
LAST-MODIFIED:20260318T130611Z
UID:10004451-1775126700-1775132100@childrenandfamily.org
SUMMARY:Woodrow Way
DESCRIPTION:197 Woodrow Way\, Hendersonville
URL:https://childrenandfamily.org/event/woodrow-way-11/
LOCATION:GLO Mobile
CATEGORIES:GLO Mobile
END:VEVENT
BEGIN:VEVENT
DTSTART;TZID=UTC:20260402T090000
DTEND;TZID=UTC:20260402T103000
DTSTAMP:20260424T141656
CREATED:20260318T130341Z
LAST-MODIFIED:20260318T130341Z
UID:10004450-1775120400-1775125800@childrenandfamily.org
SUMMARY:Edneyville Library
DESCRIPTION:2 Firehouse Rd\, Hendersonville
URL:https://childrenandfamily.org/event/edneyville-library-53/
LOCATION:GLO Mobile
CATEGORIES:GLO Mobile
END:VEVENT
BEGIN:VEVENT
DTSTART;TZID=UTC:20260401T090000
DTEND;TZID=UTC:20260401T103000
DTSTAMP:20260424T141656
CREATED:20260318T130256Z
LAST-MODIFIED:20260318T130256Z
UID:10004449-1775034000-1775039400@childrenandfamily.org
SUMMARY:Dermid Meadows
DESCRIPTION:~439 Dermid Ave\, Hendersonville
URL:https://childrenandfamily.org/event/dermid-meadows-72/
LOCATION:GLO Mobile
CATEGORIES:GLO Mobile
END:VEVENT
BEGIN:VEVENT
DTSTART;TZID=UTC:20260331T103000
DTEND;TZID=UTC:20260331T120000
DTSTAMP:20260424T141656
CREATED:20260129T212945Z
LAST-MODIFIED:20260129T212945Z
UID:10004431-1774953000-1774958400@childrenandfamily.org
SUMMARY:Etowah Park
DESCRIPTION:449 Etowah School Rd\, Hendersonville
URL:https://childrenandfamily.org/event/etowah-park-12/
LOCATION:GLO Mobile
CATEGORIES:GLO Mobile
END:VEVENT
BEGIN:VEVENT
DTSTART;TZID=UTC:20260327T104500
DTEND;TZID=UTC:20260327T121500
DTSTAMP:20260424T141656
CREATED:20260129T212805Z
LAST-MODIFIED:20260129T212805Z
UID:10004429-1774608300-1774613700@childrenandfamily.org
SUMMARY:Maple Hills MHP
DESCRIPTION:135 Maple Hill Cir\, Mills River
URL:https://childrenandfamily.org/event/maple-hills-mhp-16/
LOCATION:GLO Mobile
CATEGORIES:GLO Mobile
END:VEVENT
BEGIN:VEVENT
DTSTART;TZID=UTC:20260327T090000
DTEND;TZID=UTC:20260327T103000
DTSTAMP:20260424T141656
CREATED:20260129T212605Z
LAST-MODIFIED:20260129T213529Z
UID:10004428-1774602000-1774607400@childrenandfamily.org
SUMMARY:Mills River Park
DESCRIPTION:124 Town Center Dr\, Mills River
URL:https://childrenandfamily.org/event/mills-river-park-68/
LOCATION:GLO Mobile
CATEGORIES:GLO Mobile
END:VEVENT
BEGIN:VEVENT
DTSTART;TZID=UTC:20260326T170000
DTEND;TZID=UTC:20260326T181500
DTSTAMP:20260424T141656
CREATED:20260129T212856Z
LAST-MODIFIED:20260129T212856Z
UID:10004430-1774544400-1774548900@childrenandfamily.org
SUMMARY:Edneyville Elementary - Kindergarten Rally
DESCRIPTION:2875 Pace Rd\, Hendersonville
URL:https://childrenandfamily.org/event/edneyville-elementary-kindergarten-rally/
LOCATION:GLO Mobile
CATEGORIES:GLO Mobile
END:VEVENT
BEGIN:VEVENT
DTSTART;TZID=UTC:20260326T103000
DTEND;TZID=UTC:20260326T120000
DTSTAMP:20260424T141656
CREATED:20260129T212131Z
LAST-MODIFIED:20260129T212131Z
UID:10004427-1774521000-1774526400@childrenandfamily.org
SUMMARY:Green River Library
DESCRIPTION:50 Green River Rd\, Zirconia
URL:https://childrenandfamily.org/event/green-river-library-71/
LOCATION:GLO Mobile
CATEGORIES:GLO Mobile
END:VEVENT
BEGIN:VEVENT
DTSTART;TZID=UTC:20260325T104500
DTEND;TZID=UTC:20260325T121500
DTSTAMP:20260424T141656
CREATED:20260129T212049Z
LAST-MODIFIED:20260129T212049Z
UID:10004426-1774435500-1774440900@childrenandfamily.org
SUMMARY:East Flat Rock Park
DESCRIPTION:107 E Blue Ridge Rd\, East Flat Rock
URL:https://childrenandfamily.org/event/east-flat-rock-park-27/
LOCATION:GLO Mobile
CATEGORIES:GLO Mobile
END:VEVENT
BEGIN:VEVENT
DTSTART;TZID=UTC:20260325T090000
DTEND;TZID=UTC:20260325T103000
DTSTAMP:20260424T141656
CREATED:20260129T211959Z
LAST-MODIFIED:20260129T211959Z
UID:10004425-1774429200-1774434600@childrenandfamily.org
SUMMARY:Dodd Meadows
DESCRIPTION:28 Hofer Ct\, East Flat Rock
URL:https://childrenandfamily.org/event/dodd-meadows-72/
LOCATION:GLO Mobile
CATEGORIES:GLO Mobile
END:VEVENT
BEGIN:VEVENT
DTSTART;TZID=UTC:20260324T173000
DTEND;TZID=UTC:20260324T183000
DTSTAMP:20260424T141656
CREATED:20260129T211911Z
LAST-MODIFIED:20260129T211911Z
UID:10004424-1774373400-1774377000@childrenandfamily.org
SUMMARY:Hillandale Elementary - Kindergarten Rally
DESCRIPTION:40 Preston Ln\, East Flat Rock
URL:https://childrenandfamily.org/event/hillandale-elementary-kindergarten-rally-2/
LOCATION:GLO Mobile
CATEGORIES:GLO Mobile
END:VEVENT
BEGIN:VEVENT
DTSTART;TZID=UTC:20260324T104500
DTEND;TZID=UTC:20260324T121500
DTSTAMP:20260424T141656
CREATED:20260129T211810Z
LAST-MODIFIED:20260129T211810Z
UID:10004423-1774349100-1774354500@childrenandfamily.org
SUMMARY:Dana Park
DESCRIPTION:2879 Upward Rd\, Flat Rock
URL:https://childrenandfamily.org/event/dana-park-19/
LOCATION:GLO Mobile
CATEGORIES:GLO Mobile
END:VEVENT
BEGIN:VEVENT
DTSTART;TZID=UTC:20260324T090000
DTEND;TZID=UTC:20260324T103000
DTSTAMP:20260424T141656
CREATED:20260129T211725Z
LAST-MODIFIED:20260129T211725Z
UID:10004422-1774342800-1774348200@childrenandfamily.org
SUMMARY:Mountain View MHP
DESCRIPTION:19 Duchess Ln\, Hendersonville
URL:https://childrenandfamily.org/event/mountain-view-mhp-42/
LOCATION:GLO Mobile
CATEGORIES:GLO Mobile
END:VEVENT
BEGIN:VEVENT
DTSTART;TZID=UTC:20260320T103000
DTEND;TZID=UTC:20260320T120000
DTSTAMP:20260424T141656
CREATED:20260216T215128Z
LAST-MODIFIED:20260216T215128Z
UID:10004434-1774002600-1774008000@childrenandfamily.org
SUMMARY:Cromer Dr
DESCRIPTION:~98 Cromer Dr\, Fletcher
URL:https://childrenandfamily.org/event/cromer-dr-53/
LOCATION:GLO Mobile
CATEGORIES:GLO Mobile
END:VEVENT
BEGIN:VEVENT
DTSTART;TZID=UTC:20260319T104500
DTEND;TZID=UTC:20260319T121500
DTSTAMP:20260424T141656
CREATED:20260129T211621Z
LAST-MODIFIED:20260129T211621Z
UID:10004421-1773917100-1773922500@childrenandfamily.org
SUMMARY:Woodrow Way
DESCRIPTION:197 Woodrow Way\, Hendersonville
URL:https://childrenandfamily.org/event/woodrow-way-10/
LOCATION:GLO Mobile
CATEGORIES:GLO Mobile
END:VEVENT
BEGIN:VEVENT
DTSTART;TZID=UTC:20260319T090000
DTEND;TZID=UTC:20260319T103000
DTSTAMP:20260424T141656
CREATED:20260129T211538Z
LAST-MODIFIED:20260129T211538Z
UID:10004420-1773910800-1773916200@childrenandfamily.org
SUMMARY:Edneyville Library
DESCRIPTION:2 Firehouse Rd\, Hendersonville
URL:https://childrenandfamily.org/event/edneyville-library-52/
LOCATION:GLO Mobile
CATEGORIES:GLO Mobile
END:VEVENT
BEGIN:VEVENT
DTSTART;TZID=UTC:20260318T090000
DTEND;TZID=UTC:20260318T103000
DTSTAMP:20260424T141656
CREATED:20260129T211458Z
LAST-MODIFIED:20260129T211458Z
UID:10004419-1773824400-1773829800@childrenandfamily.org
SUMMARY:Dermid Meadows
DESCRIPTION:~439 Dermid Ave\, Hendersonville
URL:https://childrenandfamily.org/event/dermid-meadows-70/
LOCATION:GLO Mobile
CATEGORIES:GLO Mobile
END:VEVENT
BEGIN:VEVENT
DTSTART;TZID=UTC:20260317T103000
DTEND;TZID=UTC:20260317T120000
DTSTAMP:20260424T141656
CREATED:20260129T211212Z
LAST-MODIFIED:20260129T211212Z
UID:10004417-1773743400-1773748800@childrenandfamily.org
SUMMARY:Etowah Park
DESCRIPTION:449 Etowah School Rd\, Hendersonville
URL:https://childrenandfamily.org/event/etowah-park-11/
LOCATION:GLO Mobile
CATEGORIES:GLO Mobile
END:VEVENT
BEGIN:VEVENT
DTSTART;TZID=UTC:20260316T104500
DTEND;TZID=UTC:20260316T121500
DTSTAMP:20260424T141656
CREATED:20260129T211335Z
LAST-MODIFIED:20260129T211335Z
UID:10004418-1773657900-1773663300@childrenandfamily.org
SUMMARY:Maple Hills MHP
DESCRIPTION:135 Maple Hill Cir\, Mills River
URL:https://childrenandfamily.org/event/maple-hills-mhp-15/
LOCATION:GLO Mobile
CATEGORIES:GLO Mobile
END:VEVENT
END:VCALENDAR