BEGIN:VCALENDAR
VERSION:2.0
PRODID:-//Children &amp; Family Resource Center - ECPv6.15.20//NONSGML v1.0//EN
CALSCALE:GREGORIAN
METHOD:PUBLISH
X-ORIGINAL-URL:https://childrenandfamily.org
X-WR-CALDESC:Events for Children &amp; Family Resource Center
REFRESH-INTERVAL;VALUE=DURATION:PT1H
X-Robots-Tag:noindex
X-PUBLISHED-TTL:PT1H
BEGIN:VTIMEZONE
TZID:UTC
BEGIN:STANDARD
TZOFFSETFROM:+0000
TZOFFSETTO:+0000
TZNAME:UTC
DTSTART:20250101T000000
END:STANDARD
END:VTIMEZONE
BEGIN:VEVENT
DTSTART;TZID=UTC:20260304T090000
DTEND;TZID=UTC:20260304T103000
DTSTAMP:20260424T205518
CREATED:20260129T213341Z
LAST-MODIFIED:20260129T213341Z
UID:10004432-1772614800-1772620200@childrenandfamily.org
SUMMARY:Dermid Meadows
DESCRIPTION:~439 Dermid Ave\, Hendersonville
URL:https://childrenandfamily.org/event/dermid-meadows-71/
LOCATION:GLO Mobile
CATEGORIES:GLO Mobile
END:VEVENT
BEGIN:VEVENT
DTSTART;TZID=UTC:20260303T103000
DTEND;TZID=UTC:20260303T120000
DTSTAMP:20260424T205518
CREATED:20260129T205922Z
LAST-MODIFIED:20260129T205922Z
UID:10004404-1772533800-1772539200@childrenandfamily.org
SUMMARY:Etowah Park
DESCRIPTION:449 Etowah School Rd\, Hendersonville
URL:https://childrenandfamily.org/event/etowah-park-10/
LOCATION:GLO Mobile
CATEGORIES:GLO Mobile
END:VEVENT
BEGIN:VEVENT
DTSTART;TZID=UTC:20260227T104500
DTEND;TZID=UTC:20260227T121500
DTSTAMP:20260424T205518
CREATED:20260129T205222Z
LAST-MODIFIED:20260129T205222Z
UID:10004403-1772189100-1772194500@childrenandfamily.org
SUMMARY:Maple Hills MHP
DESCRIPTION:135 Maple Hill Cir\, Mills River
URL:https://childrenandfamily.org/event/maple-hills-mhp-14/
LOCATION:GLO Mobile
CATEGORIES:GLO Mobile
END:VEVENT
BEGIN:VEVENT
DTSTART;TZID=UTC:20260227T090000
DTEND;TZID=UTC:20260227T103000
DTSTAMP:20260424T205518
CREATED:20260129T205127Z
LAST-MODIFIED:20260129T205127Z
UID:10004402-1772182800-1772188200@childrenandfamily.org
SUMMARY:Mills River Park
DESCRIPTION:124 Town Center Dr\, Mills River
URL:https://childrenandfamily.org/event/mills-river-park-66/
LOCATION:GLO Mobile
CATEGORIES:GLO Mobile
END:VEVENT
BEGIN:VEVENT
DTSTART;TZID=UTC:20260226T103000
DTEND;TZID=UTC:20260226T120000
DTSTAMP:20260424T205518
CREATED:20260129T205049Z
LAST-MODIFIED:20260129T205049Z
UID:10004401-1772101800-1772107200@childrenandfamily.org
SUMMARY:Green River Library
DESCRIPTION:50 Green River Rd\, Zirconia
URL:https://childrenandfamily.org/event/green-river-library-69/
LOCATION:GLO Mobile
CATEGORIES:GLO Mobile
END:VEVENT
BEGIN:VEVENT
DTSTART;TZID=UTC:20260225T104500
DTEND;TZID=UTC:20260225T121500
DTSTAMP:20260424T205518
CREATED:20260129T204954Z
LAST-MODIFIED:20260129T204954Z
UID:10004400-1772016300-1772021700@childrenandfamily.org
SUMMARY:East Flat Rock Park
DESCRIPTION:107 E Blue Ridge Rd\, East Flat Rock
URL:https://childrenandfamily.org/event/east-flat-rock-park-25/
LOCATION:GLO Mobile
CATEGORIES:GLO Mobile
END:VEVENT
BEGIN:VEVENT
DTSTART;TZID=UTC:20260225T090000
DTEND;TZID=UTC:20260225T103000
DTSTAMP:20260424T205518
CREATED:20260129T204904Z
LAST-MODIFIED:20260129T204904Z
UID:10004399-1772010000-1772015400@childrenandfamily.org
SUMMARY:Dodd Meadows
DESCRIPTION:28 Hofer Ct\, East Flat Rock
URL:https://childrenandfamily.org/event/dodd-meadows-70/
LOCATION:GLO Mobile
CATEGORIES:GLO Mobile
END:VEVENT
BEGIN:VEVENT
DTSTART;TZID=UTC:20260224T104500
DTEND;TZID=UTC:20260224T121500
DTSTAMP:20260424T205518
CREATED:20260129T204818Z
LAST-MODIFIED:20260129T204818Z
UID:10004398-1771929900-1771935300@childrenandfamily.org
SUMMARY:Dana Park
DESCRIPTION:2879 Upward Rd\, Flat Rock
URL:https://childrenandfamily.org/event/dana-park-17/
LOCATION:GLO Mobile
CATEGORIES:GLO Mobile
END:VEVENT
BEGIN:VEVENT
DTSTART;TZID=UTC:20260224T090000
DTEND;TZID=UTC:20260224T103000
DTSTAMP:20260424T205518
CREATED:20260129T204725Z
LAST-MODIFIED:20260129T204725Z
UID:10004397-1771923600-1771929000@childrenandfamily.org
SUMMARY:Mountain View MHP
DESCRIPTION:19 Duchess Ln\, Hendersonville
URL:https://childrenandfamily.org/event/mountain-view-mhp-40/
LOCATION:GLO Mobile
CATEGORIES:GLO Mobile
END:VEVENT
BEGIN:VEVENT
DTSTART;TZID=UTC:20260223T170000
DTEND;TZID=UTC:20260223T183000
DTSTAMP:20260424T205518
CREATED:20260129T204635Z
LAST-MODIFIED:20260129T204635Z
UID:10004396-1771866000-1771871400@childrenandfamily.org
SUMMARY:Mills River Elementary - Kindergarten Rally
DESCRIPTION:94 School House Rd\, Mills River
URL:https://childrenandfamily.org/event/mills-river-elementary-kindergarten-rally-2/
LOCATION:GLO Mobile
CATEGORIES:GLO Mobile
END:VEVENT
BEGIN:VEVENT
DTSTART;TZID=UTC:20260219T104500
DTEND;TZID=UTC:20260219T121500
DTSTAMP:20260424T205518
CREATED:20260129T204511Z
LAST-MODIFIED:20260129T204511Z
UID:10004395-1771497900-1771503300@childrenandfamily.org
SUMMARY:Woodrow Way
DESCRIPTION:197 Woodrow Way\, Hendersonville
URL:https://childrenandfamily.org/event/woodrow-way-8/
LOCATION:GLO Mobile
CATEGORIES:GLO Mobile
END:VEVENT
BEGIN:VEVENT
DTSTART;TZID=UTC:20260219T090000
DTEND;TZID=UTC:20260219T103000
DTSTAMP:20260424T205518
CREATED:20260129T204419Z
LAST-MODIFIED:20260129T204419Z
UID:10004394-1771491600-1771497000@childrenandfamily.org
SUMMARY:Edneyville Library
DESCRIPTION:2 Firehouse Rd\, Hendersonville
URL:https://childrenandfamily.org/event/edneyville-library-50/
LOCATION:GLO Mobile
CATEGORIES:GLO Mobile
END:VEVENT
BEGIN:VEVENT
DTSTART;TZID=UTC:20260218T090000
DTEND;TZID=UTC:20260218T103000
DTSTAMP:20260424T205518
CREATED:20260129T204336Z
LAST-MODIFIED:20260129T204336Z
UID:10004393-1771405200-1771410600@childrenandfamily.org
SUMMARY:Dermid Meadows
DESCRIPTION:~439 Dermid Ave\, Hendersonville
URL:https://childrenandfamily.org/event/dermid-meadows-68/
LOCATION:GLO Mobile
CATEGORIES:GLO Mobile
END:VEVENT
BEGIN:VEVENT
DTSTART;TZID=UTC:20260217T103000
DTEND;TZID=UTC:20260217T120000
DTSTAMP:20260424T205518
CREATED:20260129T204149Z
LAST-MODIFIED:20260129T204149Z
UID:10004392-1771324200-1771329600@childrenandfamily.org
SUMMARY:Etowah Park
DESCRIPTION:449 Etowah School Rd\, Hendersonville
URL:https://childrenandfamily.org/event/etowah-park-9/
LOCATION:GLO Mobile
CATEGORIES:GLO Mobile
END:VEVENT
BEGIN:VEVENT
DTSTART;TZID=UTC:20260216T123000
DTEND;TZID=UTC:20260216T140000
DTSTAMP:20260424T205518
CREATED:20260129T204053Z
LAST-MODIFIED:20260129T204053Z
UID:10004391-1771245000-1771250400@childrenandfamily.org
SUMMARY:Cromer Dr
DESCRIPTION:~98 Cromer Dr\, Fletcher
URL:https://childrenandfamily.org/event/cromer-dr-50/
LOCATION:GLO Mobile
CATEGORIES:GLO Mobile
END:VEVENT
BEGIN:VEVENT
DTSTART;TZID=UTC:20260216T103000
DTEND;TZID=UTC:20260216T120000
DTSTAMP:20260424T205518
CREATED:20260129T204013Z
LAST-MODIFIED:20260129T204013Z
UID:10004390-1771237800-1771243200@childrenandfamily.org
SUMMARY:Fletcher Park
DESCRIPTION:85 Howard Gap Rd\, Fletcher
URL:https://childrenandfamily.org/event/fletcher-park-62/
LOCATION:GLO Mobile
CATEGORIES:GLO Mobile
END:VEVENT
BEGIN:VEVENT
DTSTART;TZID=UTC:20260213T104500
DTEND;TZID=UTC:20260213T121500
DTSTAMP:20260424T205518
CREATED:20260129T203922Z
LAST-MODIFIED:20260129T203922Z
UID:10004389-1770979500-1770984900@childrenandfamily.org
SUMMARY:Maple Hills MHP
DESCRIPTION:135 Maple Hill Cir\, Mills River
URL:https://childrenandfamily.org/event/maple-hills-mhp-13/
LOCATION:GLO Mobile
CATEGORIES:GLO Mobile
END:VEVENT
BEGIN:VEVENT
DTSTART;TZID=UTC:20260213T090000
DTEND;TZID=UTC:20260213T103000
DTSTAMP:20260424T205518
CREATED:20260129T203457Z
LAST-MODIFIED:20260129T203457Z
UID:10004388-1770973200-1770978600@childrenandfamily.org
SUMMARY:Mills River Park
DESCRIPTION:124 Town Center Dr\, Mills River
URL:https://childrenandfamily.org/event/mills-river-park-65/
LOCATION:GLO Mobile
CATEGORIES:GLO Mobile
END:VEVENT
BEGIN:VEVENT
DTSTART;TZID=UTC:20260212T103000
DTEND;TZID=UTC:20260212T120000
DTSTAMP:20260424T205518
CREATED:20260129T203419Z
LAST-MODIFIED:20260129T203419Z
UID:10004387-1770892200-1770897600@childrenandfamily.org
SUMMARY:Green River Library
DESCRIPTION:50 Green River Rd\, Zirconia
URL:https://childrenandfamily.org/event/green-river-library-68/
LOCATION:GLO Mobile
CATEGORIES:GLO Mobile
END:VEVENT
BEGIN:VEVENT
DTSTART;TZID=UTC:20260211T104500
DTEND;TZID=UTC:20260211T121500
DTSTAMP:20260424T205518
CREATED:20260129T203324Z
LAST-MODIFIED:20260129T203324Z
UID:10004386-1770806700-1770812100@childrenandfamily.org
SUMMARY:East Flat Rock Park
DESCRIPTION:107 E Blue Ridge Rd\, East Flat Rock
URL:https://childrenandfamily.org/event/east-flat-rock-park-24/
LOCATION:GLO Mobile
CATEGORIES:GLO Mobile
END:VEVENT
BEGIN:VEVENT
DTSTART;TZID=UTC:20260211T090000
DTEND;TZID=UTC:20260211T103000
DTSTAMP:20260424T205518
CREATED:20260129T203229Z
LAST-MODIFIED:20260129T203229Z
UID:10004385-1770800400-1770805800@childrenandfamily.org
SUMMARY:Dodd Meadows
DESCRIPTION:28 Hofer Ct\, East Flat Rock
URL:https://childrenandfamily.org/event/dodd-meadows-69/
LOCATION:GLO Mobile
CATEGORIES:GLO Mobile
END:VEVENT
BEGIN:VEVENT
DTSTART;TZID=UTC:20260210T104500
DTEND;TZID=UTC:20260210T121500
DTSTAMP:20260424T205518
CREATED:20260129T203138Z
LAST-MODIFIED:20260129T203138Z
UID:10004384-1770720300-1770725700@childrenandfamily.org
SUMMARY:Dana Park
DESCRIPTION:2879 Upward Rd\, Flat Rock
URL:https://childrenandfamily.org/event/dana-park-16/
LOCATION:GLO Mobile
CATEGORIES:GLO Mobile
END:VEVENT
BEGIN:VEVENT
DTSTART;TZID=UTC:20260210T090000
DTEND;TZID=UTC:20260210T103000
DTSTAMP:20260424T205518
CREATED:20260129T203047Z
LAST-MODIFIED:20260129T203047Z
UID:10004383-1770714000-1770719400@childrenandfamily.org
SUMMARY:Mountain View MHP
DESCRIPTION:19 Duchess Ln\, Hendersonville
URL:https://childrenandfamily.org/event/mountain-view-mhp-39/
LOCATION:GLO Mobile
CATEGORIES:GLO Mobile
END:VEVENT
BEGIN:VEVENT
DTSTART;TZID=UTC:20260205T104500
DTEND;TZID=UTC:20260205T121500
DTSTAMP:20260424T205518
CREATED:20260129T202936Z
LAST-MODIFIED:20260129T202936Z
UID:10004382-1770288300-1770293700@childrenandfamily.org
SUMMARY:Woodrow Way
DESCRIPTION:197 Woodrow Way\, Hendersonville
URL:https://childrenandfamily.org/event/woodrow-way-7/
LOCATION:GLO Mobile
CATEGORIES:GLO Mobile
END:VEVENT
BEGIN:VEVENT
DTSTART;TZID=UTC:20260205T090000
DTEND;TZID=UTC:20260205T103000
DTSTAMP:20260424T205518
CREATED:20260129T202845Z
LAST-MODIFIED:20260129T202845Z
UID:10004381-1770282000-1770287400@childrenandfamily.org
SUMMARY:Edneyville Library
DESCRIPTION:2 Firehouse Rd\, Hendersonville
URL:https://childrenandfamily.org/event/edneyville-library-49/
LOCATION:GLO Mobile
CATEGORIES:GLO Mobile
END:VEVENT
BEGIN:VEVENT
DTSTART;TZID=UTC:20260204T090000
DTEND;TZID=UTC:20260204T103000
DTSTAMP:20260424T205518
CREATED:20260129T210013Z
LAST-MODIFIED:20260129T210013Z
UID:10004405-1770195600-1770201000@childrenandfamily.org
SUMMARY:Dermid Meadows
DESCRIPTION:~439 Dermid Ave\, Hendersonville
URL:https://childrenandfamily.org/event/dermid-meadows-69/
LOCATION:GLO Mobile
CATEGORIES:GLO Mobile
END:VEVENT
BEGIN:VEVENT
DTSTART;TZID=UTC:20260204T090000
DTEND;TZID=UTC:20260204T103000
DTSTAMP:20260424T205518
CREATED:20260129T202759Z
LAST-MODIFIED:20260129T202759Z
UID:10004380-1770195600-1770201000@childrenandfamily.org
SUMMARY:Dermid Meadows
DESCRIPTION:~439 Dermid Ave\, Hendersonville
URL:https://childrenandfamily.org/event/dermid-meadows-67/
LOCATION:GLO Mobile
CATEGORIES:GLO Mobile
END:VEVENT
BEGIN:VEVENT
DTSTART;TZID=UTC:20260203T103000
DTEND;TZID=UTC:20260203T120000
DTSTAMP:20260424T205518
CREATED:20260129T202634Z
LAST-MODIFIED:20260129T213038Z
UID:10004379-1770114600-1770120000@childrenandfamily.org
SUMMARY:Etowah Park
DESCRIPTION:449 Etowah School Rd\, Hendersonville
URL:https://childrenandfamily.org/event/etowah/
LOCATION:GLO Mobile
CATEGORIES:GLO Mobile
END:VEVENT
BEGIN:VEVENT
DTSTART;TZID=UTC:20260202T123000
DTEND;TZID=UTC:20260202T140000
DTSTAMP:20260424T205518
CREATED:20260129T210647Z
LAST-MODIFIED:20260129T210647Z
UID:10004412-1770035400-1770040800@childrenandfamily.org
SUMMARY:Cromer Dr
DESCRIPTION:98 Cromer Dr\, Fletcher
URL:https://childrenandfamily.org/event/cromer-dr-51/
LOCATION:GLO Mobile
CATEGORIES:GLO Mobile
END:VEVENT
BEGIN:VEVENT
DTSTART;TZID=UTC:20260202T103000
DTEND;TZID=UTC:20260202T120000
DTSTAMP:20260424T205518
CREATED:20260129T210555Z
LAST-MODIFIED:20260129T210555Z
UID:10004411-1770028200-1770033600@childrenandfamily.org
SUMMARY:Fletcher Park
DESCRIPTION:85 Howard Gap Rd\, Fletcher
URL:https://childrenandfamily.org/event/fletcher-park-63/
LOCATION:GLO Mobile
CATEGORIES:GLO Mobile
END:VEVENT
END:VCALENDAR