BEGIN:VCALENDAR
VERSION:2.0
PRODID:-//Children &amp; Family Resource Center - ECPv6.15.20//NONSGML v1.0//EN
CALSCALE:GREGORIAN
METHOD:PUBLISH
X-ORIGINAL-URL:https://childrenandfamily.org
X-WR-CALDESC:Events for Children &amp; Family Resource Center
REFRESH-INTERVAL;VALUE=DURATION:PT1H
X-Robots-Tag:noindex
X-PUBLISHED-TTL:PT1H
BEGIN:VTIMEZONE
TZID:UTC
BEGIN:STANDARD
TZOFFSETFROM:+0000
TZOFFSETTO:+0000
TZNAME:UTC
DTSTART:20220101T000000
END:STANDARD
END:VTIMEZONE
BEGIN:VEVENT
DTSTART;TZID=UTC:20250329T080000
DTEND;TZID=UTC:20250329T150000
DTSTAMP:20260420T083742
CREATED:20250205T160845Z
LAST-MODIFIED:20250410T151314Z
UID:10003768-1743235200-1743260400@childrenandfamily.org
SUMMARY:Week of the Young Child Conference
DESCRIPTION:Join us for our Week of the Young Child Conference! There are many sessions to select from and numerous expert speakers to meet. Don’t miss this event! \nAdditional Details: \n\nEarn 4.5 credit hours\nBreakfast and lunch included\nFREE Registration\nVendors & Sponsors – Kaplan\, Paparazzi\, Smart Start and more\n\nKeynote Speaker \n\nCate Heroman – Cate is the author of NAEYC’s Making and Tinkering with STEM: Solving Design Challenges with Young Children. She is one of the founders of Knock Knock Children’s Museum in Baton Rouge\, Louisiana\, renowned for its emphasis on early literacy and early STEAM education. A nationally recognized educator and author of numerous publications\, she has been an early childhood educator\, state administrator\, trainer\, facilitator\, keynote speaker and developer of curriculum and assessment materials. Cate is passionate about helping educators create spaces where children feel empowered to become confident\, creative thinkers and problem solvers.\n\n \nYou can view a full schedule and explore session options for the morning and afternoon through our brochure! \n 
URL:https://childrenandfamily.org/event/week-of-the-young-child-conference-2/
LOCATION:Blue Ridge Community College\, 180 W. Campus Drive\, Flat Rock\, NC\, 28731\, United States
ORGANIZER;CN="Jessica Johnson":MAILTO:jessicaj@childrenandfamily.org
END:VEVENT
BEGIN:VEVENT
DTSTART;TZID=UTC:20240323T081500
DTEND;TZID=UTC:20240323T140000
DTSTAMP:20260420T083742
CREATED:20240212T144008Z
LAST-MODIFIED:20240503T133531Z
UID:10003289-1711181700-1711202400@childrenandfamily.org
SUMMARY:Week of the Young Child Conference
DESCRIPTION:Join us for our Week of the Young Child Conference! There are many sessions to select from and numerous expert speakers to meet. Don’t miss this event! \nAdditional Details: \n\nEarn 3 credit hours\nBreakfast and lunch included\nEarly Bird Registration discount- Early Bird will close March 8th!\nVendors & Sponsors – Kaplan\, Paparazzi\, Smart Start and more\n\nKeynote Speaker \n\nSarah Catherine Rhodes – Licensed Conscious Discipline Trainer\, Sarah Catherine teaches in a public school and has an inclusive PreK class including children with disabilities\, multilingual learners\, and students who qualify under Title 1. She is a Nationally Board-Certified Teacher and has participated in the NC Demonstration Program supporting best practices in the early childhood setting. As a classroom teacher and Certified Instructor for Conscious Discipline\, Sarah Catherine is a relatable and engaging presenter who is eager to share her skillset with other educators. She graduated from Meredith College with a degree in Child Development and now serves as a mentor teacher for student interns.\n\nYou can view a full schedule and explore session options for the morning and afternoon through our brochure! \n 
URL:https://childrenandfamily.org/event/week-of-the-young-child-conference/
LOCATION:Blue Ridge Community College\, 180 W. Campus Drive\, Flat Rock\, NC\, 28731\, United States
ORGANIZER;CN="Children and Family Resource Center":MAILTO:jessicaj@childrenandfamily.org
END:VEVENT
BEGIN:VEVENT
DTSTART;TZID=UTC:20230417T123000
DTEND;TZID=UTC:20230417T143000
DTSTAMP:20260420T083742
CREATED:20230322T151751Z
LAST-MODIFIED:20230412T195321Z
UID:10001884-1681734600-1681741800@childrenandfamily.org
SUMMARY:Child Care Center Spring Provider Meeting
DESCRIPTION:Presenter: DCDEE Licensing Consultants \n  \nCredit: 2 hours \n  \nQuestions contact: Heather Erwin 828-698-0674 x 154 \nheathere@childrenandfamily.org \n*Please arrive at least 15 minutes prior to the training event so there is ample time to complete the registration process and the training can begin promptly. Also\, note that if you register for the training event and are unable to attend\, you MUST contact CCR&R prior to the scheduled training event to cancel or you will be liable for the registration costs.
URL:https://childrenandfamily.org/event/child-care-center-spring-provider-meeting/
LOCATION:Blue Ridge Community College\, 180 W. Campus Drive\, Flat Rock\, NC\, 28731\, United States
CATEGORIES:CCRR Training,Event Calendar
ATTACH;FMTTYPE=application/pdf:https://childrenandfamily.org/wp-content/uploads/2023/03/CCC-Provider-Spring-invite-2023.pdf
ORGANIZER;CN="Heather":MAILTO:heathere@childrenandfamily.org
END:VEVENT
END:VCALENDAR